BEGIN:VCALENDAR
VERSION:2.0
PRODID:-//Nanaimo Astronomy - ECPv6.15.20//NONSGML v1.0//EN
CALSCALE:GREGORIAN
METHOD:PUBLISH
X-WR-CALNAME:Nanaimo Astronomy
X-ORIGINAL-URL:https://www.nanaimoastronomy.com
X-WR-CALDESC:Events for Nanaimo Astronomy
REFRESH-INTERVAL;VALUE=DURATION:PT1H
X-Robots-Tag:noindex
X-PUBLISHED-TTL:PT1H
BEGIN:VTIMEZONE
TZID:America/Vancouver
BEGIN:DAYLIGHT
TZOFFSETFROM:-0800
TZOFFSETTO:-0700
TZNAME:PDT
DTSTART:20180311T100000
END:DAYLIGHT
BEGIN:STANDARD
TZOFFSETFROM:-0700
TZOFFSETTO:-0800
TZNAME:PST
DTSTART:20181104T090000
END:STANDARD
BEGIN:DAYLIGHT
TZOFFSETFROM:-0800
TZOFFSETTO:-0700
TZNAME:PDT
DTSTART:20190310T100000
END:DAYLIGHT
BEGIN:STANDARD
TZOFFSETFROM:-0700
TZOFFSETTO:-0800
TZNAME:PST
DTSTART:20191103T090000
END:STANDARD
BEGIN:DAYLIGHT
TZOFFSETFROM:-0800
TZOFFSETTO:-0700
TZNAME:PDT
DTSTART:20200308T100000
END:DAYLIGHT
BEGIN:STANDARD
TZOFFSETFROM:-0700
TZOFFSETTO:-0800
TZNAME:PST
DTSTART:20201101T090000
END:STANDARD
END:VTIMEZONE
BEGIN:VEVENT
DTSTART;TZID=America/Vancouver:20190813T220000
DTEND;TZID=America/Vancouver:20190813T220000
DTSTAMP:20260423T221219
CREATED:20181220T233446Z
LAST-MODIFIED:20181220T233446Z
UID:1173-1565733600-1565733600@www.nanaimoastronomy.com
SUMMARY:Persieds Meteor Shower
DESCRIPTION:Biggest Meteor Shower of the year peaks on the evening of the 13th August. \nYou can view from pretty much anywhere\, just keep looking up. Maybe one or 2 meteors every minute.
URL:https://www.nanaimoastronomy.com/events/persieds-meteor-shower/
CATEGORIES:Astronomical Event
END:VEVENT
BEGIN:VEVENT
DTSTART;TZID=America/Vancouver:20190419T223000
DTEND;TZID=America/Vancouver:20190425T223000
DTSTAMP:20260423T221219
CREATED:20181220T232850Z
LAST-MODIFIED:20181220T233103Z
UID:1170-1555713000-1556231400@www.nanaimoastronomy.com
SUMMARY:Lyrid Meteor Shower
DESCRIPTION:Starting on the night of the 19th\, and continuing until the 25th of April. \nYou don’t need particularly dark skies to see meteors\, just keep looking up. Maybe one a minute or so.
URL:https://www.nanaimoastronomy.com/events/lyrid-meteor-shower/
CATEGORIES:Astronomical Event
END:VEVENT
BEGIN:VEVENT
DTSTART;TZID=America/Vancouver:20190103T213000
DTEND;TZID=America/Vancouver:20190103T233000
DTSTAMP:20260423T221219
CREATED:20181220T230742Z
LAST-MODIFIED:20181220T232335Z
UID:1162-1546551000-1546558200@www.nanaimoastronomy.com
SUMMARY:Quadrantid Meteor Shower
DESCRIPTION:First Meteor shower of the year. Peaking on the night of the 3rd/4th of January. \nYou can view meteor showers from pretty much any where. Just keep looking up and you will eventually see them. Maybe one every few minutes. \n \n  \n 
URL:https://www.nanaimoastronomy.com/events/quadrantid-meteor-shower/
CATEGORIES:Astronomical Event
END:VEVENT
END:VCALENDAR